BEGIN:VCALENDAR
VERSION:2.0
PRODID:-//Muscle Shoals Skeet &amp; Trap Club - ECPv6.15.20//NONSGML v1.0//EN
CALSCALE:GREGORIAN
METHOD:PUBLISH
X-WR-CALNAME:Muscle Shoals Skeet &amp; Trap Club
X-ORIGINAL-URL:https://msskeetandtrap.club
X-WR-CALDESC:Events for Muscle Shoals Skeet &amp; Trap Club
REFRESH-INTERVAL;VALUE=DURATION:PT1H
X-Robots-Tag:noindex
X-PUBLISHED-TTL:PT1H
BEGIN:VTIMEZONE
TZID:America/Chicago
BEGIN:DAYLIGHT
TZOFFSETFROM:-0600
TZOFFSETTO:-0500
TZNAME:CDT
DTSTART:20250309T080000
END:DAYLIGHT
BEGIN:STANDARD
TZOFFSETFROM:-0500
TZOFFSETTO:-0600
TZNAME:CST
DTSTART:20251102T070000
END:STANDARD
BEGIN:DAYLIGHT
TZOFFSETFROM:-0600
TZOFFSETTO:-0500
TZNAME:CDT
DTSTART:20260308T080000
END:DAYLIGHT
BEGIN:STANDARD
TZOFFSETFROM:-0500
TZOFFSETTO:-0600
TZNAME:CST
DTSTART:20261101T070000
END:STANDARD
BEGIN:DAYLIGHT
TZOFFSETFROM:-0600
TZOFFSETTO:-0500
TZNAME:CDT
DTSTART:20270314T080000
END:DAYLIGHT
BEGIN:STANDARD
TZOFFSETFROM:-0500
TZOFFSETTO:-0600
TZNAME:CST
DTSTART:20271107T070000
END:STANDARD
END:VTIMEZONE
BEGIN:VEVENT
DTSTART;TZID=America/Chicago:20260502T080000
DTEND;TZID=America/Chicago:20260503T170000
DTSTAMP:20260424T103656
CREATED:20260305T194714Z
LAST-MODIFIED:20260331T135354Z
UID:1298-1777708800-1777827600@msskeetandtrap.club
SUMMARY:STATE AIM TRAP SHOOT
DESCRIPTION:
URL:https://msskeetandtrap.club/event/state-aim-trap-shoot/
END:VEVENT
BEGIN:VEVENT
DTSTART;TZID=America/Chicago:20260509T090000
DTEND;TZID=America/Chicago:20260509T170000
DTSTAMP:20260424T103656
CREATED:20260305T194750Z
LAST-MODIFIED:20260305T194750Z
UID:1300-1778317200-1778346000@msskeetandtrap.club
SUMMARY:Club Clean up Day  9AM
DESCRIPTION:
URL:https://msskeetandtrap.club/event/club-clean-up-day-9am-2/
END:VEVENT
BEGIN:VEVENT
DTSTART;TZID=America/Chicago:20260516T080000
DTEND;TZID=America/Chicago:20260516T170000
DTSTAMP:20260424T103656
CREATED:20260305T194807Z
LAST-MODIFIED:20260305T194807Z
UID:1302-1778918400-1778950800@msskeetandtrap.club
SUMMARY:ATA Trap Shoot
DESCRIPTION:
URL:https://msskeetandtrap.club/event/ata-trap-shoot-3/
END:VEVENT
END:VCALENDAR