BEGIN:VCALENDAR
VERSION:2.0
PRODID:-//Muscle Shoals Skeet &amp; Trap Club - ECPv6.15.20//NONSGML v1.0//EN
CALSCALE:GREGORIAN
METHOD:PUBLISH
X-ORIGINAL-URL:https://msskeetandtrap.club
X-WR-CALDESC:Events for Muscle Shoals Skeet &amp; Trap Club
REFRESH-INTERVAL;VALUE=DURATION:PT1H
X-Robots-Tag:noindex
X-PUBLISHED-TTL:PT1H
BEGIN:VTIMEZONE
TZID:America/Chicago
BEGIN:DAYLIGHT
TZOFFSETFROM:-0600
TZOFFSETTO:-0500
TZNAME:CDT
DTSTART:20250309T080000
END:DAYLIGHT
BEGIN:STANDARD
TZOFFSETFROM:-0500
TZOFFSETTO:-0600
TZNAME:CST
DTSTART:20251102T070000
END:STANDARD
BEGIN:DAYLIGHT
TZOFFSETFROM:-0600
TZOFFSETTO:-0500
TZNAME:CDT
DTSTART:20260308T080000
END:DAYLIGHT
BEGIN:STANDARD
TZOFFSETFROM:-0500
TZOFFSETTO:-0600
TZNAME:CST
DTSTART:20261101T070000
END:STANDARD
BEGIN:DAYLIGHT
TZOFFSETFROM:-0600
TZOFFSETTO:-0500
TZNAME:CDT
DTSTART:20270314T080000
END:DAYLIGHT
BEGIN:STANDARD
TZOFFSETFROM:-0500
TZOFFSETTO:-0600
TZNAME:CST
DTSTART:20271107T070000
END:STANDARD
END:VTIMEZONE
BEGIN:VEVENT
DTSTART;TZID=America/Chicago:20260919T080000
DTEND;TZID=America/Chicago:20260919T170000
DTSTAMP:20260424T103704
CREATED:20260305T195302Z
LAST-MODIFIED:20260305T195302Z
UID:1322-1789804800-1789837200@msskeetandtrap.club
SUMMARY:ATA Trap Shoot
DESCRIPTION:
URL:https://msskeetandtrap.club/event/ata-trap-shoot-7/
END:VEVENT
BEGIN:VEVENT
DTSTART;TZID=America/Chicago:20261010T090000
DTEND;TZID=America/Chicago:20261010T170000
DTSTAMP:20260424T103704
CREATED:20260305T195328Z
LAST-MODIFIED:20260305T195328Z
UID:1324-1791622800-1791651600@msskeetandtrap.club
SUMMARY:Club Clean up Day  9AM
DESCRIPTION:
URL:https://msskeetandtrap.club/event/club-clean-up-day-9am-7/
END:VEVENT
BEGIN:VEVENT
DTSTART;TZID=America/Chicago:20261017T080000
DTEND;TZID=America/Chicago:20261017T170000
DTSTAMP:20260424T103704
CREATED:20260305T195357Z
LAST-MODIFIED:20260305T195357Z
UID:1326-1792224000-1792256400@msskeetandtrap.club
SUMMARY:ATA Trap Shoot
DESCRIPTION:
URL:https://msskeetandtrap.club/event/ata-trap-shoot-8/
END:VEVENT
BEGIN:VEVENT
DTSTART;TZID=America/Chicago:20261107T080000
DTEND;TZID=America/Chicago:20261107T170000
DTSTAMP:20260424T103704
CREATED:20260305T195423Z
LAST-MODIFIED:20260305T195423Z
UID:1328-1794038400-1794070800@msskeetandtrap.club
SUMMARY:HABITAT FOR HUMANITY SHOOT
DESCRIPTION:
URL:https://msskeetandtrap.club/event/habitat-for-humanity-shoot/
END:VEVENT
BEGIN:VEVENT
DTSTART;TZID=America/Chicago:20261114T090000
DTEND;TZID=America/Chicago:20261114T170000
DTSTAMP:20260424T103704
CREATED:20260305T195447Z
LAST-MODIFIED:20260305T195447Z
UID:1330-1794646800-1794675600@msskeetandtrap.club
SUMMARY:Club Clean up day.  9AM
DESCRIPTION:
URL:https://msskeetandtrap.club/event/club-clean-up-day-9am-8/
END:VEVENT
BEGIN:VEVENT
DTSTART;TZID=America/Chicago:20261212T090000
DTEND;TZID=America/Chicago:20261212T170000
DTSTAMP:20260424T103704
CREATED:20260305T195508Z
LAST-MODIFIED:20260305T195512Z
UID:1332-1797066000-1797094800@msskeetandtrap.club
SUMMARY:Club Clean up Day.  9AM
DESCRIPTION:
URL:https://msskeetandtrap.club/event/club-clean-up-day-9am-9/
END:VEVENT
END:VCALENDAR